BEGIN:VCALENDAR
VERSION:2.0
PRODID:-//SZEOSZ - ECPv4.9.12//NONSGML v1.0//EN
CALSCALE:GREGORIAN
METHOD:PUBLISH
X-WR-CALNAME:SZEOSZ
X-ORIGINAL-URL:https://szeosz.hu
X-WR-CALDESC:Events for SZEOSZ
BEGIN:VTIMEZONE
TZID:Europe/Helsinki
BEGIN:DAYLIGHT
TZOFFSETFROM:+0200
TZOFFSETTO:+0300
TZNAME:EEST
DTSTART:20240331T010000
END:DAYLIGHT
BEGIN:STANDARD
TZOFFSETFROM:+0300
TZOFFSETTO:+0200
TZNAME:EET
DTSTART:20241027T010000
END:STANDARD
END:VTIMEZONE
BEGIN:VEVENT
DTSTART;TZID=Europe/Helsinki:20240512T070000
DTEND;TZID=Europe/Helsinki:20240512T140000
DTSTAMP:20260420T085020
CREATED:20231218T150621Z
LAST-MODIFIED:20231218T150621Z
UID:3003-1715497200-1715522400@szeosz.hu
SUMMARY:"20 év - 20 km" EU-s futás
DESCRIPTION:Magyarország 20 éve az Európai Unió tagja. Fuss velünk 20 kilométert – egyéniben vagy 2-3 fős váltóban – a budapesti Európa-napi fesztiválon\, 2024. május 12-én! \n
URL:https://szeosz.hu/esemeny/20-ev-20-km-eu-s-futas/
LOCATION:Budapest\, Szabadság tér\, Szabadság tér\, Budapest\, Budapest\, 1054
END:VEVENT
END:VCALENDAR