BEGIN:VCALENDAR
VERSION:2.0
PRODID:-//SZEOSZ - ECPv4.9.12//NONSGML v1.0//EN
CALSCALE:GREGORIAN
METHOD:PUBLISH
X-WR-CALNAME:SZEOSZ
X-ORIGINAL-URL:https://szeosz.hu
X-WR-CALDESC:Events for SZEOSZ
BEGIN:VTIMEZONE
TZID:Europe/Budapest
BEGIN:DAYLIGHT
TZOFFSETFROM:+0100
TZOFFSETTO:+0200
TZNAME:CEST
DTSTART:20260329T010000
END:DAYLIGHT
BEGIN:STANDARD
TZOFFSETFROM:+0200
TZOFFSETTO:+0100
TZNAME:CET
DTSTART:20261025T010000
END:STANDARD
END:VTIMEZONE
BEGIN:VEVENT
DTSTART;TZID=Europe/Budapest:20260517T160000
DTEND;TZID=Europe/Budapest:20260517T170000
DTSTAMP:20260424T135946
CREATED:20260424T070235Z
LAST-MODIFIED:20260424T082740Z
UID:5103-1779033600-1779037200@szeosz.hu
SUMMARY:2026 másodperces futás
DESCRIPTION:Sok szeretettel várunk Mindenkit május 17-én Komlóra a 2026 másodperces futásra! \n Bő fél óra mozgás – a saját tempódban \n Nem számít a helyezés \n Nem számít a megtett táv \n Minden kör után tombolaszelvény \n Futás utáni ajándéksorsolás \n Különdíjak \n Előnevezőknek egyedi emblémázott póló \nRészletek: \nwww.doke.hu \nhttps://www.facebook.com/events/1475419027561058/ \nA rendezvény az Aktív Magyarország támogatásával valósul meg. \n
URL:https://szeosz.hu/esemeny/2026-masodperces-futas/
LOCATION:Komló\, Eszperantó tér 1. - Sportközpont\, Komló\, 7300\, Hungary
ATTACH;FMTTYPE=image/jpeg:https://szeosz.hu/wp-content/uploads/2026/04/Plakat-2026mp.jpg
ORGANIZER;CN="D%C3%96KE":MAILTO:betty.balogh@gmail.com
END:VEVENT
END:VCALENDAR